BEGIN:VCALENDAR
VERSION:2.0
PRODID:-//Plone.org//NONSGML plone.app.event//EN
X-WR-TIMEZONE:Europe/Madrid
BEGIN:VEVENT
SUMMARY:Seny i rauxa. Notícia de l'arquitectura catalana
DTSTART;VALUE=DATE:20260522
DTEND;VALUE=DATE:20260907
DTSTAMP:20260419T184131Z
UID:057ed888513143b1ba55d508a13fbf96@arxiuetsab-catedragaudi.upc.edu
CONTACT:adreca@noreply.com\, https://www.dissenyhub.barcelona/ca/exposicio
 /seny-i-rauxa-noticia-de-larquitectura-catalana
CREATED:20240122T074207Z
LAST-MODIFIED:20260415T153345Z
LOCATION:DHub
URL:https://arxiuetsab-catedragaudi.upc.edu/ca/esdeveniments/senyirauxa
END:VEVENT
END:VCALENDAR
